BEGIN:VCALENDAR
VERSION:2.0
PRODID:-ABConcerts-events
METHOD:PUBLISH
BEGIN:VEVENT
TRANSP:OPAQUE
DTSTART:20110921T200000
DTEND:20110921T223000
SUMMARY:Zakopower
LOCATION:AB Grote zaal (Anspachlaan 110\, 1000 Brussel)
DESCRIPTION:Concert van een van de bekendste Poolse muziekgroepen\, die\nsuccesvol volksmuziek weet te combineren met moderne klanken\nen rock. De muziek van de groep\, soms wel “folk rock”\ngenoemd\, blijft moeilijk te categoriseren. De artiesten\nworden geïnspireerd door de muzikale traditie van Podhale\n(het hoogland in Zuid-Polen) en hun muziek bevat niet alleen\nelementen van rock maar ook invloeden van jazz en zelfs\nAfrikaanse klanken. Het eindresultaat klinkt authentiek\,\nuniek en ontzettend energievol. De muzikale energie is het\nvisitekaartje van Zakopower en daar verwijst de naam van de\ngroep ook naar. De woordspeling in de naam van de groep\nverwijst trouwens naar de stad Zakopane in het\nTatra-gebergte\, de zogenaamde winterhoofdstad van Polen.De\ncharismatische leider van de muziekgroep\, Sebastian\nKarpiel-Bułecka\, komt net als de meeste leden van de groep\nuit de Podhale regio en identificeert zich sterk met de\nregionale cultuur. In het repertoire van Zakopower kan je\nritmes terugvinden\, die typisch zijn voor het hoogland\, en\nook echo’s van traditionele liederen\, maar dankzij de\noriginele composities en arrangementen klinkt het geheel\nbijzonder modern. Zakopower maakt gebruik van traditionele\nvolksinstrumenten (de viool\, de contrabas) gecombineerd met\ntrompet\, gitaren\, synthesizers\, drums en een\nkarakteristieke vocale identiteit.    Het concert wordt\ngeorganiseerd in het kader van de Dagen van Małopolska in\nBrussel\, onder auspiciën van het Pools Voorzitterschap van\nde Raad van de Europese Unie.    Meer kunt u lezen op:\nwww.malopolskadays.eu
URL;VALUE=URI:https://www.abconcerts.be/nl/agenda/zakopower/a105J000001wgmzQAA
UID:ABConcerts_event_da76231e-599f-11eb-b495-5254eb761bff
SEQUENCE:0
DTSTAMP:20260421T194150Z
END:VEVENT
END:VCALENDAR
