BEGIN:VCALENDAR
VERSION:2.0
PRODID:-ABConcerts-events
METHOD:PUBLISH
BEGIN:VEVENT
TRANSP:OPAQUE
DTSTART:20160223T223000
DTEND:20160223T233000
SUMMARY:YellowStraps x Le Motel - Free Aftershow St Germain
LOCATION:AB Club - staand (Anspachlaan 110\, 1000 Brussel)
DESCRIPTION:Artist In Residence stelt album ‘Mellow’ met Le Motel\nvoor!
URL;VALUE=URI:https://www.abconcerts.be/nl/agenda/yellowstraps-x-le-motel-free-aftershow-st-germain/a105J000001wdWSQAY
UID:ABConcerts_event_b1f4c372-59a0-11eb-a782-5254eb761bff
SEQUENCE:0
DTSTAMP:20260424T073027Z
END:VEVENT
END:VCALENDAR
