BEGIN:VCALENDAR
VERSION:2.0
PRODID:-ABConcerts-events
METHOD:PUBLISH
BEGIN:VEVENT
TRANSP:OPAQUE
DTSTART:20170513T160000
DTEND:20170513T223000
SUMMARY:Wire, Raime, Blanck Mass, Dans Dans, paper hats, delvaux., O
nrust, The Fly
LOCATION:AB Complex (Anspachlaan 110\, 1000 Brussel)
DESCRIPTION:Concert verplaatst !
URL;VALUE=URI:https://www.abconcerts.be/nl/agenda/wire-raime-blanck-mass-dans-dans-paper-hats-delvaux-onrust-the-fly/a105J000001wdPGQAY
UID:ABConcerts_event_90051ee2-59a0-11eb-b2d7-5254eb761bff
SEQUENCE:0
DTSTAMP:20260421T210531Z
END:VEVENT
END:VCALENDAR
