BEGIN:VCALENDAR
VERSION:2.0
PRODID:-ABConcerts-events
METHOD:PUBLISH
BEGIN:VEVENT
TRANSP:OPAQUE
DTSTART:20130921T200000
DTEND:20130921T223000
SUMMARY:Wire + Múm + Wolf Eyes + Anna von Hausswolff
LOCATION:AB Salon - zittend (Steenstraat 11\, 1000 Brussel)
DESCRIPTION:AB palmt voor een weekend het Amerikaans Theater in.
URL;VALUE=URI:https://www.abconcerts.be/nl/agenda/wire-mum-wolf-eyes-anna-von-hausswolff/a105J000001wgraQAA
UID:ABConcerts_event_15b46d8c-59a0-11eb-9068-5254eb761bff
SEQUENCE:0
DTSTAMP:20260420T001047Z
END:VEVENT
END:VCALENDAR
