BEGIN:VCALENDAR
VERSION:2.0
PRODID:-ABConcerts-events
METHOD:PUBLISH
BEGIN:VEVENT
TRANSP:OPAQUE
DTSTART:20161030T150000
DTEND:20161030T180000
SUMMARY:Whitney (extra matinee-concert)
LOCATION:AB Club - staand (Anspachlaan 110\, 1000 Brussel)
DESCRIPTION:Ultieme popband op de rand van de doorbraak
URL;VALUE=URI:https://www.abconcerts.be/nl/agenda/whitney-extra-matinee-concert/a105J000001wdSgQAI
UID:ABConcerts_event_9e931446-59a0-11eb-ad2c-5254eb761bff
SEQUENCE:0
DTSTAMP:20260423T133917Z
END:VEVENT
END:VCALENDAR
