BEGIN:VCALENDAR
VERSION:2.0
PRODID:-ABConcerts-events
METHOD:PUBLISH
BEGIN:VEVENT
TRANSP:OPAQUE
DTSTART:20161104T200000
DTEND:20161104T223000
SUMMARY:Warhola
LOCATION:AB Box (Anspachlaan 110\, 1000 Brussel)
DESCRIPTION:Muzikale octopus & lid van Bazart begeestert met ‘Aura’
URL;VALUE=URI:https://www.abconcerts.be/nl/agenda/warhola/a105J000001wdUDQAY
UID:ABConcerts_event_b4ed0c10-59a0-11eb-94c5-5254eb761bff
SEQUENCE:0
DTSTAMP:20260423T114138Z
END:VEVENT
END:VCALENDAR
