BEGIN:VCALENDAR
VERSION:2.0
PRODID:-ABConcerts-events
METHOD:PUBLISH
BEGIN:VEVENT
TRANSP:OPAQUE
DTSTART:20170823T120000
DTEND:20170823T140000
SUMMARY:Wally en Matinée Emancipée: vrouwen zingen P
LOCATION:Het Warandepark (Warandepark\, 1000 Brussels)
DESCRIPTION:Een Antwerpse stadsmens en dames rond een doctorandus!
URL;VALUE=URI:https://www.abconcerts.be/nl/agenda/wally-en-matinee-emancipee-vrouwen-zingen-p/a105J000001wgy3QAA
UID:ABConcerts_event_b75ea7a2-599f-11eb-9b17-5254eb761bff
SEQUENCE:0
DTSTAMP:20260422T185629Z
END:VEVENT
END:VCALENDAR
