BEGIN:VCALENDAR
VERSION:2.0
PRODID:-ABConcerts-events
METHOD:PUBLISH
BEGIN:VEVENT
TRANSP:OPAQUE
DTSTART:20160416T200000
DTEND:20160416T223000
SUMMARY:VanWyck
LOCATION:AB Salon - zittend (Steenstraat 11\, 1000 Brussel)
DESCRIPTION:Donkere folk met gouden rand
URL;VALUE=URI:https://www.abconcerts.be/nl/agenda/vanwyck/a105J000001wdWjQAI
UID:ABConcerts_event_ac77fde2-59a0-11eb-a288-5254eb761bff
SEQUENCE:0
DTSTAMP:20260424T000906Z
END:VEVENT
END:VCALENDAR
