BEGIN:VCALENDAR
VERSION:2.0
PRODID:-ABConcerts-events
METHOD:PUBLISH
BEGIN:VEVENT
TRANSP:OPAQUE
DTSTART:20260429T190000
DTEND:20260429T223000
SUMMARY:Triggerfinger
LOCATION:AB Grote zaal (Anspachlaan 110\, 1000 Brussel)
DESCRIPTION:Na enkele optredens dit najaar en een nieuwe single is\nTriggerfinger helemaal opgewarmd voor het grote werk volgend\njaar. Op woensdag 29 april 2026 komt de iconische Belgische\nrockband naar onze grote zaal. Een unieke kans om de rauwe\nenergie en de onderlinge chemie die Triggerfinger zo beroemd\nheeft gemaakt opnieuw live te beleven.Triggerfinger staat\nvoor rock in al zijn kracht en vitaliteit. De groep\, die\njarenlang als trio optrad\, gaat sinds het vertrek van\nMonsieur Paul in 2023 verder als duo. Afgelopen maand nam de\nrockwereld helaas afscheid van de legendarische ‘Lange\nPolle’.Ruben Block en Mario Goossens staan bekend om hun\nenergieke optredens en krachtige sound\, een mix van rock en\nblues. Na een carrière van meer dan twintig jaar blijft het\nduo evolueren\, zonder iets van hun legendarische\nenthousiasme te verliezen. Hun ontmoeting met producer\nMitchell Froom in Los Angeles zorgde voor nieuwe creatieve\nperspectieven en duwde hen richting onverwachte muzikale\nwegen. Met hun nieuwe single “Stars” kondigt de band een\nspetterende terugkeer aan en zetten ze een nieuw\,\nemotioneel hoofdstuk in het verhaal in.Triggerfinger heeft\nal verschillende concertdata voor 2026 aangekondigd\, maar\nhet hoogtepunt wordt ongetwijfeld hun terugkeer naar hun\ntweede thuis AB. Het belooft een explosieve avond te worden\nvol pure\, ongetemde rock\, waarbij de magie van\nTriggerfinger vanaf de eerste noot voelbaar zal zijn. &nbsp;
URL;VALUE=URI:https://www.abconcerts.be/nl/agenda/triggerfinger/a10Qw000009UZkjIAG
UID:ABConcerts_event_1f0ba273-617b-6416-835c-c7afefc83b88
SEQUENCE:0
DTSTAMP:20260419T170834Z
END:VEVENT
END:VCALENDAR
