BEGIN:VCALENDAR
VERSION:2.0
PRODID:-ABConcerts-events
METHOD:PUBLISH
BEGIN:VEVENT
TRANSP:OPAQUE
DTSTART:20211201T190000
DTEND:20211201T223000
SUMMARY:Tout Va Bien
LOCATION:AB Grote zaal (Anspachlaan 110\, 1000 Brussel)
DESCRIPTION:Nieuwe datum: 29/05/2022
URL;VALUE=URI:https://www.abconcerts.be/nl/agenda/tout-va-bien/a105J000005Hk79QAC
UID:ABConcerts_event_4c001ac2-5106-11ec-a65b-5254eb761bff
SEQUENCE:0
DTSTAMP:20260421T235407Z
END:VEVENT
END:VCALENDAR
