BEGIN:VCALENDAR
VERSION:2.0
PRODID:-ABConcerts-events
METHOD:PUBLISH
BEGIN:VEVENT
TRANSP:OPAQUE
DTSTART:20250127T190000
DTEND:20250127T220000
SUMMARY:Time is a Parasite - 30 Years of K’s Choice
LOCATION:AB Flex (Anspachlaan 110\, 1000 Brussel)
DESCRIPTION:Terug naar de essentie met prachtige samenzang
URL;VALUE=URI:https://www.abconcerts.be/nl/agenda/time-is-a-parasite-30-years-of-ks-choice/a10Qw000001js5KIAQ
UID:ABConcerts_event_1ef7272d-674c-67a8-ab6b-e7102fff8cd9
SEQUENCE:0
DTSTAMP:20260422T111224Z
END:VEVENT
END:VCALENDAR
