BEGIN:VCALENDAR
VERSION:2.0
PRODID:-ABConcerts-events
METHOD:PUBLISH
BEGIN:VEVENT
TRANSP:OPAQUE
DTSTART:20130830T190000
DTEND:20130830T223000
SUMMARY:Tikiman live with Scion (performing songs from the Rhythm & 
Sound classic 'Showcase' album) + Mark Ernestus (DJ-set)
LOCATION:AB Salon - zittend (Steenstraat 11\, 1000 Brussel)
DESCRIPTION:19u00 Soundtrack by: BL13P DJ          Dub Be Good To Me\n[Celebrating 45 years of dub]     In 2013 focust AB zich op\neen subgenre van reggae en zijn wereldwijde invloed ervan:\ndub. Zeg maar – zij het kort door de bocht - de\ninstrumentale versie van reggae. Dub ontstond in 1968 – en\nis in 2013 dus exact 45 jaar oud – dankzij de vergissing\n(!) van één man: Osbourne Ruddock aka King Tubby. Tijdens\nhet afwerken van een mastertape vergat hij per vergissing de\nvocals in het geheel te mixen. Dub (en versions aka\ninstrumentals) was geboren.    Om deze symbolische datum in\nde spotlight te zetten\, eert AB deze radicale en\nvernieuwende muziekstijl. Met dub als uitgangspunt. En met\neen antwoord op de vraag: hoe (relevant) klinkt dub anno\n2013?         20u30 Tikiman live with Scion (d)   \nPerforming songs from the Rhythm &amp; Sound classic\n‘showcase’ album     Duitsland heeft naast Kraftwerk en\nEinstürzende Neubauten nog meer muziekgeschiedenis\ngeschreven. Zo zorgden labels als Basic Channel\, Burial Mix\nen Chain Reaction voor een grote invloed op de techno scene.\nAchter deze labels schuilde Mark Ernestus die samen met\nMoritz Von Oswald het unieke Rhythm &amp; Sound vormde. Zeg\nmaar: het beste en meest invloedrijke wat Europa ooit gekend\nheeft in dub. Discussiegroepen: bring it on!    Exact 15\njaar geleden – in ’98 – verscheen het fabuleuze\n‘Showcase’ album met de hulp van Paul St. Hilaire die\nzijn naam inmiddels omdoopte tot Tikiman. Het resultaat: de\nwarme stem van reggaester Tikiman op de van mijlenver\nherkenbare unieke minimale dub van Rhythm &amp; Sound.\nHoewel Rhythm &amp; Sound er destijds niet voor koos deze\nsongs live te brengen\, gaven ze hun zegen aan Scion (het\nduo René Löwe en Peter ‘Substance’ Kuschnereit) en\nTikiman om dit legendarische en bijzonder invloedrijke album\nopnieuw in de kijker te zetten. Dat heet: Dub Be Good To Me\n#1 in stijl openen.         22u00 Mark Ernestus (d)    Wie\nRhythm &amp; Sound zegt\, haalt er best meteen ½ Rhythm\n&amp; Sound bij of in deze: Mark Ernestus. Ernestus is\ntevens oprichter van de legendarische platenwinkel Hard Wax\nin Berlijn die vooral cutting edge dansmuziek onder de\naandacht wil brengen. Onder Maurizio maakte hij invloedrijke\ntracks op het grensgebied van dub en techno.    De jongste\njaren remixte hij zowel Tony Allen\, Tortoise als Konono No.\n1. Tevens runt hij een tweetal labels: Dug Out (met Mark\nAinley van Honest Jon’s) waarop hij reggae reissues\nuitbrengt en het kersverse Ndagga-label waarop hij flirt met\ncomplexe Afrikaanse ritmes.    Verwacht u aan een set vol\ndub en reggae: van roots tot digidub. Van de minimale sound\nvan Rhythm &amp; Sound tot heavyweight uptempo tracks.      \n
URL;VALUE=URI:https://www.abconcerts.be/nl/agenda/tikiman-live-with-scion-performing-songs-from-the-rhythm-sound-classic-showcase-album-mark-ernestus-dj-set/a105J000001wgrKQAQ
UID:ABConcerts_event_2f29c492-59a0-11eb-b254-5254eb761bff
SEQUENCE:0
DTSTAMP:20260419T222723Z
END:VEVENT
END:VCALENDAR
