BEGIN:VCALENDAR
VERSION:2.0
PRODID:-ABConcerts-events
METHOD:PUBLISH
BEGIN:VEVENT
TRANSP:OPAQUE
DTSTART:20121222T170000
DTEND:20121222T223000
SUMMARY:The Wire Primer: Subterranean Metal - Edwin Pouncey
LOCATION:AB Salon - zittend (Steenstraat 11\, 1000 Brussel)
DESCRIPTION:‘The Wire Primer: Subterranean Metal’ met Edwin\nPounceyAB in association with The WireEén van de reeksen in\nhet niet te versmaden Britse tijdschrift The Wire is ‘The\nPrimer’. Hierin verdiept een journalist\, muzikant\,\nschrijver zich in een niet voor de hand liggend onderwerp of\nzoals ze het zelf zeggen: A bi-monthly guide to the core\nrecordings of a particular artist or genre.In samenwerking\nmet The Wire gaan we deze reeks een live verlengstuk geven\nen de schrijvers uitnodigen in Huis23.Starten doen we met\nEdwin Pouncey met zijn stuk over ‘Subterranean metal’\n(verschenen in The Wire 252 van februari 2005).Edwin Pouncy\nis muziekjournalist\, muzikant bij Pestrepeller en een\nnotoir Britse undergroundfiguur\, hij schreef in de jaren\n’80 o.a. voor Sounds en NME en recenter verdiepte hij zich\nin onderwerpen van Japanse Psychedelica tot Jamaïcaanse\ndancehall tapes en van La Monte Young over Motown tot Todd\nRundgren voor The Wire. Pouncey is ook bekend als cartoonist\nSavage Pencil. Onder deze monniker heeft hij artwork gemaakt\nvoor o.a. Sonic Youth\, Big Black\, The Fall\, Rocket From\nThe Crypt\, Masonna\, Royal Trux\, Coil\, Current 93\,\nSkullflower\, Sunn O)))\,….In zijn The Primer met de titel\n‘Subterranean Metal’ neem Pouncey ons mee in een\npersoonlijke selectie platen van rock’s meest extreme\nsubcultuur. Van Grindcore drones en Scandinavische\nBlackmetal tot de meer electronische varianten en de\nzwaardere improvisatie muziek\, van Earth\, Goatsnake en\nNeurosis tot Merzbow of John Zorn (Painkiller\, Naked City)\ndus. Dé perfecte introductie tot een avond Amenra en Church\nOf Ra door een van dé specialisten van het genre.Er zal die\ndag ook een merchandise stand van The Wire zijn.Wil je deze\nunieke lezing bijwonen schrijf dan snel in via\nreservationshuis23@abconcerts.be\, (met vermelding Edwin\nPouncey) de plaatsen zijn beperkt.
URL;VALUE=URI:https://www.abconcerts.be/nl/agenda/the-wire-primer-subterranean-metal-edwin-pouncey/a105J000001wgp8QAA
UID:ABConcerts_event_6e290bd6-599f-11eb-af6f-5254eb761bff
SEQUENCE:0
DTSTAMP:20260422T121101Z
END:VEVENT
END:VCALENDAR
