BEGIN:VCALENDAR
VERSION:2.0
PRODID:-ABConcerts-events
METHOD:PUBLISH
BEGIN:VEVENT
TRANSP:OPAQUE
DTSTART:20151118T200000
DTEND:20151118T223000
SUMMARY:The Neighbourhood
LOCATION:AB Club - staand (Anspachlaan 110\, 1000 Brussel)
DESCRIPTION:Dark pop\, hiphop & elektronica in de blender op ‘Wiped\nOut’
URL;VALUE=URI:https://www.abconcerts.be/nl/agenda/the-neighbourhood/a105J000001wdZHQAY
UID:ABConcerts_event_a0c776c6-59a0-11eb-b64c-5254eb761bff
SEQUENCE:0
DTSTAMP:20260424T052429Z
END:VEVENT
END:VCALENDAR
