BEGIN:VCALENDAR
VERSION:2.0
PRODID:-ABConcerts-events
METHOD:PUBLISH
BEGIN:VEVENT
TRANSP:OPAQUE
DTSTART:20240423T190000
DTEND:20240423T223000
SUMMARY:The Jesus & Mary Chain
LOCATION:AB Grote zaal (Anspachlaan 110\, 1000 Brussel)
DESCRIPTION:The Jesus And Mary Chain: 40 years
URL;VALUE=URI:https://www.abconcerts.be/nl/agenda/the-jesus-mary-chain/a105J0000071IrcQAE
UID:ABConcerts_event_1ee8a47e-12ef-6c54-94fd-0d60a3b84c11
SEQUENCE:0
DTSTAMP:20260422T123437Z
END:VEVENT
END:VCALENDAR
