BEGIN:VCALENDAR
VERSION:2.0
PRODID:-ABConcerts-events
METHOD:PUBLISH
BEGIN:VEVENT
TRANSP:OPAQUE
DTSTART:20200122T200000
DTEND:20200122T223000
SUMMARY:The Colorist Orchestra & Gabriel Rios
LOCATION:AB Theater (Anspachlaan 110\, 1000 Brussel)
DESCRIPTION:Na Emiliana Torrini gaat The Colorist in zee met\nwereldburger Gabriel Rios
URL;VALUE=URI:https://www.abconcerts.be/nl/agenda/the-colorist-orchestra-gabriel-rios/a105J000001wd7lQAA
UID:ABConcerts_event_bd16ca9a-599e-11eb-98db-5254eb761bff
SEQUENCE:0
DTSTAMP:20260423T103503Z
END:VEVENT
END:VCALENDAR
