BEGIN:VCALENDAR
VERSION:2.0
PRODID:-ABConcerts-events
METHOD:PUBLISH
BEGIN:VEVENT
TRANSP:OPAQUE
DTSTART:19940113T200000
DTEND:19940113T223000
SUMMARY:The Afghan Whigs
LOCATION:AB Grote zaal (Anspachlaan 110\, 1000 Brussel)
DESCRIPTION:
URL;VALUE=URI:https://www.abconcerts.be/nl/agenda/the-afghan-whigs/a105J000001wgQUQAY
UID:ABConcerts_event_13aa8062-59a0-11eb-a935-5254eb761bff
SEQUENCE:0
DTSTAMP:20260421T223729Z
END:VEVENT
END:VCALENDAR
