BEGIN:VCALENDAR
VERSION:2.0
PRODID:-ABConcerts-events
METHOD:PUBLISH
BEGIN:VEVENT
TRANSP:OPAQUE
DTSTART:20181017T200000
DTEND:20181017T223000
SUMMARY:Susheela Raman
LOCATION:AB Theater (Anspachlaan 110\, 1000 Brussel)
DESCRIPTION:Zuid-Indische via Londen\, nu zeer global met 'Ghost\nGamelan'
URL;VALUE=URI:https://www.abconcerts.be/nl/agenda/susheela-raman/a105J000001wdGnQAI
UID:ABConcerts_event_714691c0-59a0-11eb-9732-5254eb761bff
SEQUENCE:0
DTSTAMP:20260425T061627Z
END:VEVENT
END:VCALENDAR
