BEGIN:VCALENDAR
VERSION:2.0
PRODID:-ABConcerts-events
METHOD:PUBLISH
BEGIN:VEVENT
TRANSP:OPAQUE
DTSTART:20151003T190000
DTEND:20151003T223000
SUMMARY:Sunwoo JungA + Sioen
LOCATION:AB Club - staand (Anspachlaan 110\, 1000 Brussel)
DESCRIPTION:Korean Music Festival Brussels
URL;VALUE=URI:https://www.abconcerts.be/nl/agenda/sunwoo-junga-sioen/a105J000001wdZZQAY
UID:ABConcerts_event_a4617bc4-59a0-11eb-8145-5254eb761bff
SEQUENCE:0
DTSTAMP:20260424T001341Z
END:VEVENT
END:VCALENDAR
