BEGIN:VCALENDAR
VERSION:2.0
PRODID:-ABConcerts-events
METHOD:PUBLISH
BEGIN:VEVENT
TRANSP:OPAQUE
DTSTART:20150910T190000
DTEND:20150910T223000
SUMMARY:Sufjan Stevens @ Bozar
LOCATION:Bozar (Ravensteinstraat 23\, 1000 Brussels)
DESCRIPTION:Terugkeer van de maker van de superbe klassieker\n‘Illinoise’
URL;VALUE=URI:https://www.abconcerts.be/nl/agenda/sufjan-stevens-bozar/a105J000001wdcOQAQ
UID:ABConcerts_event_4f3f1ecc-599f-11eb-8e17-5254eb761bff
SEQUENCE:0
DTSTAMP:20260423T223947Z
END:VEVENT
END:VCALENDAR
