BEGIN:VCALENDAR
VERSION:2.0
PRODID:-ABConcerts-events
METHOD:PUBLISH
BEGIN:VEVENT
TRANSP:OPAQUE
DTSTART:20170930T200000
DTEND:20170930T223000
SUMMARY:Strut Records presents The Souljazz Orchestra + Kondi Band
LOCATION:AB Club - staand (Anspachlaan 110\, 1000 Brussel)
DESCRIPTION:Heerlijke double bill vol afro/soul/dub/electronica approved\nby Gilles Peterson
URL;VALUE=URI:https://www.abconcerts.be/nl/agenda/strut-records-presents-the-souljazz-orchestra-kondi-band/a105J000001wdNSQAY
UID:ABConcerts_event_3e85c748-599f-11eb-9937-5254eb761bff
SEQUENCE:0
DTSTAMP:20260420T062203Z
END:VEVENT
END:VCALENDAR
