BEGIN:VCALENDAR
VERSION:2.0
PRODID:-ABConcerts-events
METHOD:PUBLISH
BEGIN:VEVENT
TRANSP:OPAQUE
DTSTART:20161211T200000
DTEND:20161211T223000
SUMMARY:Strand Of Oaks - solo concert
LOCATION:AB Salon - zittend (Steenstraat 11\, 1000 Brussel)
DESCRIPTION:Amerikaanse rockgod doet het voor één keer solo!
URL;VALUE=URI:https://www.abconcerts.be/nl/agenda/strand-of-oaks-solo-concert/a105J000001wdRKQAY
UID:ABConcerts_event_b143d760-59a0-11eb-b498-5254eb761bff
SEQUENCE:0
DTSTAMP:20260422T035808Z
END:VEVENT
END:VCALENDAR
