BEGIN:VCALENDAR
VERSION:2.0
PRODID:-ABConcerts-events
METHOD:PUBLISH
BEGIN:VEVENT
TRANSP:OPAQUE
DTSTART:20150402T200000
DTEND:20150402T223000
SUMMARY:Steel Panther
LOCATION:AB Grote zaal (Anspachlaan 110\, 1000 Brussel)
DESCRIPTION:Hét metalfeest van 2015 inclusief catsuits en poedelhaar!
URL;VALUE=URI:https://www.abconcerts.be/nl/agenda/steel-panther/a105J000001weEjQAI
UID:ABConcerts_event_d582ead0-59a0-11eb-9d81-5254eb761bff
SEQUENCE:0
DTSTAMP:20260422T053618Z
END:VEVENT
END:VCALENDAR
