BEGIN:VCALENDAR
VERSION:2.0
PRODID:-ABConcerts-events
METHOD:PUBLISH
BEGIN:VEVENT
TRANSP:OPAQUE
DTSTART:20161011T200000
DTEND:20161011T223000
SUMMARY:Stars of The Lid @ Begijnhofkerk
LOCATION:Begijnhofkerk (unknown\, 1000 Brussel)
DESCRIPTION:Legendarische drone/ambient band speelt op unieke Brusselse\nlocatie
URL;VALUE=URI:https://www.abconcerts.be/nl/agenda/stars-of-the-lid-begijnhofkerk/a105J000001wdU5QAI
UID:ABConcerts_event_aed6fdb8-59a0-11eb-a0d1-5254eb761bff
SEQUENCE:0
DTSTAMP:20260422T155236Z
END:VEVENT
END:VCALENDAR
