BEGIN:VCALENDAR
VERSION:2.0
PRODID:-ABConcerts-events
METHOD:PUBLISH
BEGIN:VEVENT
TRANSP:OPAQUE
DTSTART:20160223T190000
DTEND:20160223T223000
SUMMARY:St Germain
LOCATION:AB Grote zaal (Anspachlaan 110\, 1000 Brussel)
DESCRIPTION:Na 15 jaar terug van weggeweest mét nieuw album!
URL;VALUE=URI:https://www.abconcerts.be/nl/agenda/st-germain/a105J000001wdY1QAI
UID:ABConcerts_event_c7c7a32c-59a0-11eb-a6d6-5254eb761bff
SEQUENCE:0
DTSTAMP:20260424T062429Z
END:VEVENT
END:VCALENDAR
