BEGIN:VCALENDAR
VERSION:2.0
PRODID:-ABConcerts-events
METHOD:PUBLISH
BEGIN:VEVENT
TRANSP:OPAQUE
DTSTART:20111123T200000
DTEND:20111123T223000
SUMMARY:Spinvis
LOCATION:AB Theater (Anspachlaan 110\, 1000 Brussel)
DESCRIPTION:Spinvis: &quot;Tot ziens\, Justine Keller&quot;\nPremière!Lekker koken kost tijd en Spinvis-liedjes zijn\ngeen snelle hap. Maar nu\, na het bewandelen van vele\nzijpaden\, is de tafel weer gedekt met luisterrijke\nschotels\, wonderlijke hapjes\, gevaarlijke wijnen en spul\nwaar je raar van gaat dromen.&quot;Tot ziens\, Justine\nKeller&quot; is de titel van de Spinvis CD die ergens in\nseptember/oktober zal verschijnen. Een album vol ironieloze\nromantiek deze keer. Zorgvuldige liedjes over gebroken\nharten\, droeve sneeuw en oorlog.Op het podium van de Tot\nziens\, Justine Keller-Tour staan\, naast Spinvis zelf\,\nvier muzikanten die hun weg weten op vele\ninstrumenten:Marcel van As: ritmes\, loops\, zang\, potten\nen pannen etc.Saartje Van Camp: cello\, zingende zaag\,\ntoetsen\, xylofoon\, echostemmen etc.Cor van Ingen:\nbasgitaar\, dwarsfluit\, E-bow\, stemmen\, vreemde geluiden\netc.Lucas Oldeman: toetsen\,snaren\, stemmen etc.   \nUitzonderlijk relevant voorprogramma wordt Senne Guns\, want\nwat blijkt: &#39;(debuutcd) &#39;Hoera voor de Eleboe&#39;\nhoudt het midden tussen Spinvis en Flaming Lips: speels en\nprettig gestoord\, maar altijd met het oog op een goeie\nmelodie. Er wordt gewerkt met analoge synthesizers\,\npiepende blieps en vervormde stemmen\, en op gezette\ntijdstippen worden het geheel bestrooid met een mespuntje\npostrock... Een aanwinst! ****&#39; Bart Steenhaut\, De\nMorgen
URL;VALUE=URI:https://www.abconcerts.be/nl/agenda/spinvis/a105J000001wgl4QAA
UID:ABConcerts_event_021a1a06-59a0-11eb-9c5d-5254eb761bff
SEQUENCE:0
DTSTAMP:20260421T235234Z
END:VEVENT
END:VCALENDAR
