BEGIN:VCALENDAR
VERSION:2.0
PRODID:-ABConcerts-events
METHOD:PUBLISH
BEGIN:VEVENT
TRANSP:OPAQUE
DTSTART:20180217T200000
DTEND:20180217T223000
SUMMARY:Son Lux
LOCATION:AB Ballroom (Anspachlaan 110\, 1000 Brussel)
DESCRIPTION:Folky electronica trio met uitstekende live reputatie stelt\nnieuw album voor.
URL;VALUE=URI:https://www.abconcerts.be/nl/agenda/son-lux/a105J000001wdKXQAY
UID:ABConcerts_event_5e8677f4-599f-11eb-9f70-5254eb761bff
SEQUENCE:0
DTSTAMP:20260420T024348Z
END:VEVENT
END:VCALENDAR
