BEGIN:VCALENDAR
VERSION:2.0
PRODID:-ABConcerts-events
METHOD:PUBLISH
BEGIN:VEVENT
TRANSP:OPAQUE
DTSTART:20261204T190000
DTEND:20261204T223000
SUMMARY:SLIFT
LOCATION:AB Ballroom (Anspachlaan 110\, 1000 Brussel)
DESCRIPTION:Het krachtige space-rocktrio is terug met een gloednieuw\nalbum
URL;VALUE=URI:https://www.abconcerts.be/nl/agenda/slift/a10Qw00000EvtULIAZ
UID:ABConcerts_event_1f13a6e1-c5f0-6a70-aadb-8f4f4a7f0f18
SEQUENCE:0
DTSTAMP:20260423T000618Z
END:VEVENT
END:VCALENDAR
