BEGIN:VCALENDAR
VERSION:2.0
PRODID:-ABConcerts-events
METHOD:PUBLISH
BEGIN:VEVENT
TRANSP:OPAQUE
DTSTART:20161201T200000
DTEND:20161201T223000
SUMMARY:Simon Joyner
LOCATION:AB Salon - zittend (Steenstraat 11\, 1000 Brussel)
DESCRIPTION:Tijdloze songs van een befaamde singer-songwriter
URL;VALUE=URI:https://www.abconcerts.be/nl/agenda/simon-joyner/a105J000001wdS0QAI
UID:ABConcerts_event_c4145504-59a0-11eb-906c-5254eb761bff
SEQUENCE:0
DTSTAMP:20260422T034208Z
END:VEVENT
END:VCALENDAR
