BEGIN:VCALENDAR
VERSION:2.0
PRODID:-ABConcerts-events
METHOD:PUBLISH
BEGIN:VEVENT
TRANSP:OPAQUE
DTSTART:20140418T200000
DTEND:20140418T223000
SUMMARY:Silence Is Sexy: Christina Vantzou
LOCATION:AB Club - staand (Anspachlaan 110\, 1000 Brussel)
DESCRIPTION:Filmische pracht voor fans van AWVFTS
URL;VALUE=URI:https://www.abconcerts.be/nl/agenda/silence-is-sexy-christina-vantzou/a105J000001weCrQAI
UID:ABConcerts_event_a4d5916c-59a0-11eb-8357-5254eb761bff
SEQUENCE:0
DTSTAMP:20260422T213316Z
END:VEVENT
END:VCALENDAR
