BEGIN:VCALENDAR
VERSION:2.0
PRODID:-ABConcerts-events
METHOD:PUBLISH
BEGIN:VEVENT
TRANSP:OPAQUE
DTSTART:20101102T200000
DTEND:20101102T223000
SUMMARY:Sexion d'Assaut
LOCATION:AB Grote zaal (Anspachlaan 110\, 1000 Brussel)
DESCRIPTION:Sexion d&#39;Assaut
URL;VALUE=URI:https://www.abconcerts.be/nl/agenda/sexion-dassaut/a105J000001wgfAQAQ
UID:ABConcerts_event_434b5788-59a0-11eb-81a0-5254eb761bff
SEQUENCE:0
DTSTAMP:20260420T172250Z
END:VEVENT
END:VCALENDAR
