BEGIN:VCALENDAR
VERSION:2.0
PRODID:-ABConcerts-events
METHOD:PUBLISH
BEGIN:VEVENT
TRANSP:OPAQUE
DTSTART:20161114T200000
DTEND:20161114T223000
SUMMARY:Seratones
LOCATION:AB Club - staand (Anspachlaan 110\, 1000 Brussel)
DESCRIPTION:Female fronted rock ‘n roll voor Alabama Shakes-fans
URL;VALUE=URI:https://www.abconcerts.be/nl/agenda/seratones/a105J000001wdU0QAI
UID:ABConcerts_event_ae97f104-59a0-11eb-ad5e-5254eb761bff
SEQUENCE:0
DTSTAMP:20260422T051536Z
END:VEVENT
END:VCALENDAR
