BEGIN:VCALENDAR
VERSION:2.0
PRODID:-ABConcerts-events
METHOD:PUBLISH
BEGIN:VEVENT
TRANSP:OPAQUE
DTSTART:20141107T200000
DTEND:20141107T223000
SUMMARY:Selah Sue
LOCATION:AB Grote zaal (Anspachlaan 110\, 1000 Brussel)
DESCRIPTION:Een langverwacht weerzien met haar fans!
URL;VALUE=URI:https://www.abconcerts.be/nl/agenda/selah-sue/a105J000001wgw3QAA
UID:ABConcerts_event_3621515c-59a0-11eb-9bad-5254eb761bff
SEQUENCE:0
DTSTAMP:20260423T074127Z
END:VEVENT
END:VCALENDAR
