BEGIN:VCALENDAR
VERSION:2.0
PRODID:-ABConcerts-events
METHOD:PUBLISH
BEGIN:VEVENT
TRANSP:OPAQUE
DTSTART:20180222T200000
DTEND:20180222T223000
SUMMARY:Screening: Shut Up And Play The Hits - LCD Soundsystem
LOCATION:AB Salon - zittend (Steenstraat 11\, 1000 Brussel)
DESCRIPTION:If it's a funeral...let's have the best funeral ever'
URL;VALUE=URI:https://www.abconcerts.be/nl/agenda/screening-shut-up-and-play-the-hits-lcd-soundsystem/a105J000001wdK5QAI
UID:ABConcerts_event_57749bd0-599f-11eb-a635-5254eb761bff
SEQUENCE:0
DTSTAMP:20260420T024734Z
END:VEVENT
END:VCALENDAR
