BEGIN:VCALENDAR
VERSION:2.0
PRODID:-ABConcerts-events
METHOD:PUBLISH
BEGIN:VEVENT
TRANSP:OPAQUE
DTSTART:20230301T193000
DTEND:20230301T223000
SUMMARY:Screening: Deep Listening: The Story of Pauline Oliveros
LOCATION:AB Salon - zittend (Steenstraat 11\, 1000 Brussel)
DESCRIPTION:Docu over een van dé iconische pioniers in de electronische\nmuziek
URL;VALUE=URI:https://www.abconcerts.be/nl/agenda/screening-deep-listening-the-story-of-pauline-oliveros/a105J000008G7gcQAC
UID:ABConcerts_event_2e5f55ec-ad20-11ed-af48-5254eb761bff
SEQUENCE:0
DTSTAMP:20260420T090550Z
END:VEVENT
END:VCALENDAR
