BEGIN:VCALENDAR
VERSION:2.0
PRODID:-ABConcerts-events
METHOD:PUBLISH
BEGIN:VEVENT
TRANSP:OPAQUE
DTSTART:20151129T160000
DTEND:20151129T180000
SUMMARY:Screening: As The Palaces Burn - CANCELLED
LOCATION:AB Salon - zittend (Steenstraat 11\, 1000 Brussel)
DESCRIPTION:Deze creening is afgelast
URL;VALUE=URI:https://www.abconcerts.be/nl/agenda/screening-as-the-palaces-burn-cancelled/a105J000001wdYxQAI
UID:ABConcerts_event_9d67e0e2-59a0-11eb-be83-5254eb761bff
SEQUENCE:0
DTSTAMP:20260425T055236Z
END:VEVENT
END:VCALENDAR
