BEGIN:VCALENDAR
VERSION:2.0
PRODID:-ABConcerts-events
METHOD:PUBLISH
BEGIN:VEVENT
TRANSP:OPAQUE
DTSTART:20180405T204500
DTEND:20180405T223000
SUMMARY:SCRAAATCH
LOCATION:Bonnefooi (unknown\, 1000 Brussel)
DESCRIPTION:BRDCST: sound & performance art duo gelinkt aan Rabit’s\nlabel Halcyon Veil
URL;VALUE=URI:https://www.abconcerts.be/nl/agenda/scraaatch/a105J000001wdIMQAY
UID:ABConcerts_event_7453af60-59a0-11eb-bb71-5254eb761bff
SEQUENCE:0
DTSTAMP:20260419T233642Z
END:VEVENT
END:VCALENDAR
