BEGIN:VCALENDAR
VERSION:2.0
PRODID:-ABConcerts-events
METHOD:PUBLISH
BEGIN:VEVENT
TRANSP:OPAQUE
DTSTART:20261118T190000
DTEND:20261118T223000
SUMMARY:Rounhaa
LOCATION:AB Grote zaal (Anspachlaan 110\, 1000 Brussel)
DESCRIPTION:SUBLIME TOUR
URL;VALUE=URI:https://www.abconcerts.be/nl/agenda/rounhaa/a10Qw0000097A8jIAE
UID:ABConcerts_event_1f13d554-f111-69e2-94e1-0788dbaebae3
SEQUENCE:0
DTSTAMP:20260423T001306Z
END:VEVENT
END:VCALENDAR
