BEGIN:VCALENDAR
VERSION:2.0
PRODID:-ABConcerts-events
METHOD:PUBLISH
BEGIN:VEVENT
TRANSP:OPAQUE
DTSTART:20090430T123000
DTEND:20090430T223000
SUMMARY:Roosbeef
LOCATION:AB Salon - zittend (Steenstraat 11\, 1000 Brussel)
DESCRIPTION:&quot;Ze willen wel je hond aaien\, maar niet met je\npraten&quot;. De Nederlandse pers is unaniem: deze\ndebuutplaat gaat geschiedenis schrijven.De Nederlandse bands\ndie het in België willen maken moeten van goede huize zijn.\nJa hoor\, we zijn erg kritisch. Komt natuurlijk doordat we\nzelf zoveel talent hebben rondlopen en af en toe een beetje\nchauvinistische zijn. Maar toch\, Roosbeef slaagt erin om de\nsimpele dingen des levens zo subliem te verwoorden dat we\nmet verstomming geslagen worden en erg trots zijn dat we\nhetzelfde taalgebied bevolken.Wie is die Roos? Wel\, er was\neens een meisje\, dat Roos heette. Ze woonde samen met haar\nvader en moeder en haar broer op een oude boerderij. Daar\nmaakte ze muziekjes. Die familie was heel hecht. Vader\nboekte optredens voor Roosbeef\, het bandje van dat meisje\,\nterwijl moeder vlijtig teksten corrigeerde. Broerlief\nverzorgde daarbij de catering en deed allerlei andere hand\nen spandiensten. De gemeente Duiven\, waar dit verhaal zich\nafspeelde\, had heel andere plannen met dit huiselijke\ntafereeltje dat eigenlijk zoveel navolging verdiende in heel\nhet land. En toen\, toen gebeurde er iets vreselijks\, de\nsloophamer kwam langs. En de rest wordt\ngeschiedenis.Line-up:Roos Rebergen - zang\, pianoReinier van\nden Haak - gitaar\, mondharmonicaErik Harbers - basTim van\nOosten - drums                                Roosbeef at\nLuxorLive
URL;VALUE=URI:https://www.abconcerts.be/nl/agenda/roosbeef/a105J000001wgYcQAI
UID:ABConcerts_event_8a6c1554-599f-11eb-84b5-5254eb761bff
SEQUENCE:0
DTSTAMP:20260419T223642Z
END:VEVENT
END:VCALENDAR
