BEGIN:VCALENDAR
VERSION:2.0
PRODID:-ABConcerts-events
METHOD:PUBLISH
BEGIN:VEVENT
TRANSP:OPAQUE
DTSTART:20240214T190000
DTEND:20240214T223000
SUMMARY:Rhiannon Giddens
LOCATION:AB Flex (Anspachlaan 110\, 1000 Brussel)
DESCRIPTION:Een van Amerika’s meest inventieve rootsartiesten stelt\nhaar nieuwe album voor
URL;VALUE=URI:https://www.abconcerts.be/nl/agenda/rhiannon-giddens/a105J000007gDBpQAM
UID:ABConcerts_event_73eb8520-09c0-11ee-a5cf-52547ec8b846
SEQUENCE:0
DTSTAMP:20260421T144952Z
END:VEVENT
END:VCALENDAR
