BEGIN:VCALENDAR
VERSION:2.0
PRODID:-ABConcerts-events
METHOD:PUBLISH
BEGIN:VEVENT
TRANSP:OPAQUE
DTSTART:20251006T190000
DTEND:20251006T223000
SUMMARY:REWIND: K's Choice plays 'Paradise In Me' (1996)
LOCATION:AB Grote zaal (Anspachlaan 110\, 1000 Brussel)
DESCRIPTION:K’s Choice speelt integraal hun klassieker die dit jaar 30\n(!) kaarsjes uitblaast
URL;VALUE=URI:https://www.abconcerts.be/nl/agenda/rewind-ks-choice-plays-paradise-in-me-1996/a10Qw000004NfD3IAK
UID:ABConcerts_event_1effe530-73bd-6d60-88ae-8104c82f655f
SEQUENCE:0
DTSTAMP:20260424T185952Z
END:VEVENT
END:VCALENDAR
