BEGIN:VCALENDAR
VERSION:2.0
PRODID:-ABConcerts-events
METHOD:PUBLISH
BEGIN:VEVENT
TRANSP:OPAQUE
DTSTART:20150606T100000
DTEND:20150606T160000
SUMMARY:Repair Café
LOCATION:AB Complex (Anspachlaan 110\, 1000 Brussel)
DESCRIPTION:Breng je kapotte spullen naar AB en laat ze gratis\nherstellen!
URL;VALUE=URI:https://www.abconcerts.be/nl/agenda/repair-cafe/a105J000001wgx4QAA
UID:ABConcerts_event_7919fc12-599f-11eb-b02b-5254eb761bff
SEQUENCE:0
DTSTAMP:20260423T212156Z
END:VEVENT
END:VCALENDAR
