BEGIN:VCALENDAR
VERSION:2.0
PRODID:-ABConcerts-events
METHOD:PUBLISH
BEGIN:VEVENT
TRANSP:OPAQUE
DTSTART:20260613T190000
DTEND:20260613T223000
SUMMARY:Red Leather
LOCATION:AB Club - staand (Anspachlaan 110\, 1000 Brussel)
DESCRIPTION:Alternatieve countryrock van onder een mysterieuze hoed
URL;VALUE=URI:https://www.abconcerts.be/nl/agenda/red-leather/a10Qw00000FdwTJIAZ
UID:ABConcerts_event_1f0f09e8-1b9f-62f0-8d8d-ddb1e982cd0f
SEQUENCE:0
DTSTAMP:20260420T024251Z
END:VEVENT
END:VCALENDAR
