BEGIN:VCALENDAR
VERSION:2.0
PRODID:-ABConcerts-events
METHOD:PUBLISH
BEGIN:VEVENT
TRANSP:OPAQUE
DTSTART:20260531T193000
DTEND:20260531T223000
SUMMARY:Punk 50 movie screening: 'Repo Man' (1984)
LOCATION:AB Salon - zittend (Steenstraat 11\, 1000 Brussel)
DESCRIPTION:Een jonge punk wordt gerekruteerd door een repo-bedrijf
URL;VALUE=URI:https://www.abconcerts.be/nl/agenda/punk-50-movie-screening-repo-man-1984/a10Qw00000HwbgXIAR
UID:ABConcerts_event_1f13a358-8830-61ea-af9b-7f6ee7e9f4de
SEQUENCE:0
DTSTAMP:20260423T002151Z
END:VEVENT
END:VCALENDAR
