BEGIN:VCALENDAR
VERSION:2.0
PRODID:-ABConcerts-events
METHOD:PUBLISH
BEGIN:VEVENT
TRANSP:OPAQUE
DTSTART:20130513T200000
DTEND:20130513T223000
SUMMARY:Puggy + Elisa Jo
LOCATION:AB Grote zaal (Anspachlaan 110\, 1000 Brussel)
DESCRIPTION:Om gezondheidsredenen (stemverlies van de zanger tijdens het\nconcert van 18 april)\, ziet Puggy zich genoodzaakt om het\nconcert van 19 april in de Ancienne Belgique uit te stellen\nnaar 13 mei.              Gekochte tickets blijven geldig\nvoor de nieuwe datum.         Indien de nieuwe datum u niet\npast en u hebt gewone tickets\, gelieve deze voor 30 april\nterug te sturen met vermelding van uw rekeningnummer naar AB\nTicketshop\, Anspachlaan 110\, 1000 Brussel.    Indien u per\ne-mail e-tickets heeft ontvangen en de nieuwe datum past u\nniet\, gelieve een reply op uw bevestigingsmail te versturen\nnaar info@abconcerts.be met vermelding van uw rekeningnummer\nen dit voor 30 april.                   De langverwachte\ncomeback van de Brusselse band Puggy is een feit! Getuigen\nhiervan zijn een nieuw album dat in januari uitkomt en een\neerste nieuwe single die de komende dagen te horen is. Ter\ngelegenheid van de release van hun album komt Puggy naar\nBelgië om het nieuwe werk live aan ons voor te stellen.\nOmdat het concert op 23 februari zo goed als uitverkocht\nis\, maakt Puggy bekend dat zij twee Belgische data aan hun\ntour toevoegen! Tot groot genoegen van iedereen komt de\ngroep ook op woensdag 17\, donderdag 18 april en vrijdag 19\napril naar de Brusselse Ancienne Belgique!
URL;VALUE=URI:https://www.abconcerts.be/nl/agenda/puggy-elisa-jo/a105J000001wdw3QAA
UID:ABConcerts_event_ebc5eac2-59a0-11eb-9d5c-5254eb761bff
SEQUENCE:0
DTSTAMP:20260419T163641Z
END:VEVENT
END:VCALENDAR
