BEGIN:VCALENDAR
VERSION:2.0
PRODID:-ABConcerts-events
METHOD:PUBLISH
BEGIN:VEVENT
TRANSP:OPAQUE
DTSTART:20251116T190000
DTEND:20251116T223000
SUMMARY:Psychonaut
LOCATION:AB Grote zaal (Anspachlaan 110\, 1000 Brussel)
DESCRIPTION:World Maker Release Tour
URL;VALUE=URI:https://www.abconcerts.be/nl/agenda/psychonaut/a10Qw000001hhifIAA
UID:ABConcerts_event_1efda654-9567-65c8-8323-cf6511e90e77
SEQUENCE:0
DTSTAMP:20260422T032008Z
END:VEVENT
END:VCALENDAR
