BEGIN:VCALENDAR
VERSION:2.0
PRODID:-ABConcerts-events
METHOD:PUBLISH
BEGIN:VEVENT
TRANSP:OPAQUE
DTSTART:20171123T200000
DTEND:20171123T223000
SUMMARY:Poppunt Session
LOCATION:AB Grote zaal (Anspachlaan 110\, 1000 Brussel)
DESCRIPTION:Artiesten en music industry professionals laten twee uur\nlang in hun kaarten kijken
URL;VALUE=URI:https://www.abconcerts.be/nl/agenda/poppunt-session/a105J000001wgyCQAQ
UID:ABConcerts_event_3e0d010e-59a0-11eb-88b4-5254eb761bff
SEQUENCE:0
DTSTAMP:20260420T082517Z
END:VEVENT
END:VCALENDAR
