BEGIN:VCALENDAR
VERSION:2.0
PRODID:-ABConcerts-events
METHOD:PUBLISH
BEGIN:VEVENT
TRANSP:OPAQUE
DTSTART:20241109T220000
DTEND:20241110T050000
SUMMARY:Pink Screens Closing Party
LOCATION:AB Grote zaal (Anspachlaan 110\, 1000 Brussel)
DESCRIPTION:Queer-positive people\, who’s ready to bring it\, whip\nit\, freak it\, pump it?!?!
URL;VALUE=URI:https://www.abconcerts.be/nl/agenda/pink-screens-closing-party/a10Qw0000005QRhIAM
UID:ABConcerts_event_1ef8a46c-46f6-6e46-8a11-8bfff7f4e56b
SEQUENCE:0
DTSTAMP:20260422T105856Z
END:VEVENT
END:VCALENDAR
