BEGIN:VCALENDAR
VERSION:2.0
PRODID:-ABConcerts-events
METHOD:PUBLISH
BEGIN:VEVENT
TRANSP:OPAQUE
DTSTART:20160521T200000
DTEND:20160521T223000
SUMMARY:Pieter Embrechts: Onderwoud
LOCATION:AB Club - staand (Anspachlaan 110\, 1000 Brussel)
DESCRIPTION:Rijpe\, heerlijk onaardse parels in muzikaal ballenbad
URL;VALUE=URI:https://www.abconcerts.be/nl/agenda/pieter-embrechts-onderwoud/a105J000001wdWnQAI
UID:ABConcerts_event_ad375f70-59a0-11eb-b8a6-5254eb761bff
SEQUENCE:0
DTSTAMP:20260421T182226Z
END:VEVENT
END:VCALENDAR
