BEGIN:VCALENDAR
VERSION:2.0
PRODID:-ABConcerts-events
METHOD:PUBLISH
BEGIN:VEVENT
TRANSP:OPAQUE
DTSTART:20251127T190000
DTEND:20251127T223000
SUMMARY:Perturbator
LOCATION:AB Box + (Anspachlaan 110\, 1000 Brussel)
DESCRIPTION:De Franse producer James Kent\, alias Perturbator\, is terug\nin 2025!
URL;VALUE=URI:https://www.abconcerts.be/nl/agenda/perturbator/a10Qw000001AAAPIA4
UID:ABConcerts_event_1efdc9a5-dad7-6670-bac5-45b0ff8ee341
SEQUENCE:0
DTSTAMP:20260423T184504Z
END:VEVENT
END:VCALENDAR
